BEGIN:VCALENDAR
VERSION:2.0
PRODID:-//Taylor&#039;s Market &amp; Kitchen - ECPv6.15.20//NONSGML v1.0//EN
CALSCALE:GREGORIAN
METHOD:PUBLISH
X-WR-CALNAME:Taylor&#039;s Market &amp; Kitchen
X-ORIGINAL-URL:https://www.taylorsmarket.com
X-WR-CALDESC:Events for Taylor&#039;s Market &amp; Kitchen
REFRESH-INTERVAL;VALUE=DURATION:PT1H
X-Robots-Tag:noindex
X-PUBLISHED-TTL:PT1H
BEGIN:VTIMEZONE
TZID:America/Los_Angeles
BEGIN:DAYLIGHT
TZOFFSETFROM:-0800
TZOFFSETTO:-0700
TZNAME:PDT
DTSTART:20250309T100000
END:DAYLIGHT
BEGIN:STANDARD
TZOFFSETFROM:-0700
TZOFFSETTO:-0800
TZNAME:PST
DTSTART:20251102T090000
END:STANDARD
BEGIN:DAYLIGHT
TZOFFSETFROM:-0800
TZOFFSETTO:-0700
TZNAME:PDT
DTSTART:20260308T100000
END:DAYLIGHT
BEGIN:STANDARD
TZOFFSETFROM:-0700
TZOFFSETTO:-0800
TZNAME:PST
DTSTART:20261101T090000
END:STANDARD
BEGIN:DAYLIGHT
TZOFFSETFROM:-0800
TZOFFSETTO:-0700
TZNAME:PDT
DTSTART:20270314T100000
END:DAYLIGHT
BEGIN:STANDARD
TZOFFSETFROM:-0700
TZOFFSETTO:-0800
TZNAME:PST
DTSTART:20271107T090000
END:STANDARD
END:VTIMEZONE
BEGIN:VEVENT
DTSTART;TZID=America/Los_Angeles:20260424T180000
DTEND;TZID=America/Los_Angeles:20260424T200000
DTSTAMP:20260423T101925
CREATED:20260406T204019Z
LAST-MODIFIED:20260406T204019Z
UID:4068-1777053600-1777060800@www.taylorsmarket.com
SUMMARY:Taylors Dinner Club - In Bloom
DESCRIPTION:In Bloom 🌸✨\n  \nJoin us as we celebrate the beauty of spring with an evening full of fresh flavors\, vibrant vibes\, and wonderful company. Come hungry\, soak in the season\, and enjoy a night designed to blossom with connection and joy 🌿🍽️ \nLet’s gather\, indulge\, and bloom together. Don’t miss it 💐 \n  \nhttps://www.eventbrite.com/e/taylors-dinner-club-tickets-1986485970011?aff=oddtdtcreator
URL:https://www.taylorsmarket.com/event/taylors-dinner-club-in-bloom/
LOCATION:Taylor’s Kitchen\, 2924 Freeport Blvd\, Sacramento\, CA\, 95818\, United States
ATTACH;FMTTYPE=image/png:https://www.taylorsmarket.com/wp-content/uploads/2026/04/2.png
END:VEVENT
END:VCALENDAR